BEGIN:VCALENDAR
PRODID:-//eluceo/ical//2.0/EN
VERSION:2.0
CALSCALE:GREGORIAN
BEGIN:VEVENT
UID:a3bcf60fc5fd0ba6e71a30d2fc0fff71
DTSTAMP:20260420T054959Z
SUMMARY:Berkshire Jewish Film Festival
DESCRIPTION:Jewish Federation of the Berkshires\nBerkshire Jewish Community
  Calendar\nhttps://jewishberkshires.org/jewish-federation-of-the-berkshire
 s-calendar/berkshire-jewish-film-festival-1459266889\n\nAmerican and Inter
 national films with a Jewish connection.
DTSTART;TZID=America/New_York:20160808T160000
DTEND;TZID=America/New_York:20160808T180000
END:VEVENT
END:VCALENDAR
