BEGIN:VCALENDAR
PRODID:-//eluceo/ical//2.0/EN
VERSION:2.0
CALSCALE:GREGORIAN
BEGIN:VEVENT
UID:ba7a9409a367cd2a2930e0351929fdc7
DTSTAMP:20260420T231435Z
SUMMARY:Berkshire Jewish Authors in Conversation
DESCRIPTION:Jewish Federation of the Berkshires\nBerkshire Jewish Community
  Calendar\nhttps://jewishberkshires.org/jewish-federation-of-the-berkshire
 s-calendar/berkshire-jewish-authors-in-conversation-1763669343\n\nIn a sli
 ghtly belated celebration of Jewish Book Month\, join three local Berkshir
 e authors for a reading and conversation: Barbara Viniar\, Carol Goodman K
 aufman\, and Rabbi Pam Wax.\n\nBarbara Viniar's debut novel\, "Little Bird
 \," was inspired by her grandmother’s life as an immigrant from Russia i
 n the early 20th century.\n\nCarol Goodman Kaufman has written several chi
 ldren's books as well as mysteries and a collection of short stories. Her 
 features on food and its history have been publish...
DTSTART;TZID=America/New_York:20251209T190000
DTEND;TZID=America/New_York:20251209T203000
END:VEVENT
END:VCALENDAR
