BEGIN:VCALENDAR
PRODID:-//eluceo/ical//2.0/EN
VERSION:2.0
CALSCALE:GREGORIAN
BEGIN:VEVENT
UID:7e270dc22b3dc99d65e47e52972b5454
DTSTAMP:20260425T112610Z
SUMMARY:Berkshire Hills Hadassah Youth Aliyah Dessert Reception
DESCRIPTION:Jewish Federation of the Berkshires\nBerkshire Jewish Community
  Calendar\nhttps://jewishberkshires.org/jewish-federation-of-the-berkshire
 s-calendar/berkshire-hills-hadassah-youth-aliyah-dessert-reception-1494972
 757\n\nJoin us for "Close Listening" with Professor of Music Jeremy Yudkin
  and Carol Goodman\, National Chair of Youth Aliyah.\nWe are supporting Is
 raeli youth in need of alternative housing\, schooling and emotional suppo
 rt.\nRSVP $18.00 per person plus $25.00 minimum donation.
DTSTART;TZID=America/New_York:20170606T193000
DTEND;TZID=America/New_York:20170606T213000
END:VEVENT
END:VCALENDAR
