BEGIN:VCALENDAR
PRODID:-//eluceo/ical//2.0/EN
VERSION:2.0
CALSCALE:GREGORIAN
BEGIN:VEVENT
UID:ff88009481c12af98e70ad357716c394
DTSTAMP:20260421T174306Z
SUMMARY:Berkshire Hills Hadassah Picnic
DESCRIPTION:Jewish Federation of the Berkshires\nBerkshire Jewish Community
  Calendar\nhttps://jewishberkshires.org/jewish-federation-of-the-berkshire
 s-calendar/berkshire-hills-hadassah-picnic-1690218781\n\nCome join us for 
 an afternoon with your Hadassah friends on Monday\,  Aug. 21 at noon under
  the tent at KI. Bring your picnic lunch or order a Federation Kosher lunc
 h. Call before 9am to find out menu and to order -(413)442-2200. Please RS
 VP to let us know if you are joining us at berkshirehillshadassah@gmail.co
 m. Come and schmooz\, play mah jong\, Scrabble or Bridge (bring tables and
  games/sets).  No charge\, but donations to Hadassah are always welcomed. 
  We love meeting Hadassah members from...
DTSTART;TZID=America/New_York:20230821T120000
DTEND;TZID=America/New_York:20230821T143000
END:VEVENT
END:VCALENDAR
