BEGIN:VCALENDAR
PRODID:-//eluceo/ical//2.0/EN
VERSION:2.0
CALSCALE:GREGORIAN
BEGIN:VEVENT
UID:b1fb2ff5bfb6c826be6c33e167ed3797
DTSTAMP:20260422T134241Z
SUMMARY:Berkshire Hills Hadassah New Member Pool Party
DESCRIPTION:Jewish Federation of the Berkshires\nBerkshire Jewish Community
  Calendar\nhttps://jewishberkshires.org/jewish-federation-of-the-berkshire
 s-calendar/berkshire-hills-hadassah-new-member-pool-party-1467547791\n\nCo
 me to socialize with new Berkshire Hills Hadassah members in a lovely hous
 e in Lanesborough. Bring your own drinks. We will have pizza and salads fo
 r all.\nRain Date is August 16th.\nPlease call Judy to RSVP and for direct
 ions 413-443-5545
DTSTART;TZID=America/New_York:20160809T150000
DTEND;TZID=America/New_York:20160809T190000
END:VEVENT
END:VCALENDAR
