BEGIN:VCALENDAR
PRODID:-//eluceo/ical//2.0/EN
VERSION:2.0
CALSCALE:GREGORIAN
BEGIN:VEVENT
UID:d1d84eba99b80b97eec8e0e4288c3a92
DTSTAMP:20260421T014548Z
SUMMARY: Berkshire Hills Hadassah General Meeting and Presentation on Mammo
 graphy 
DESCRIPTION:Jewish Federation of the Berkshires\nBerkshire Jewish Community
  Calendar\nhttps://jewishberkshires.org/jewish-federation-of-the-berkshire
 s-calendar/berkshire-hills-hadassah-general-meeting-and-presentation-on-ma
 mmography-1449514652\n\nBerkshire Hills Hadassah General Meeting\, followe
 d by Program on Breast Health and Mammography Recommendations\; Speaker\, 
 Dr. Stuart Masters. General Meeting will be preceded by a brief Board Meet
 ing (1:00 PM)
DTSTART;TZID=America/New_York:20160110T140000
DTEND;TZID=America/New_York:20160110T160000
END:VEVENT
END:VCALENDAR
