BEGIN:VCALENDAR
PRODID:-//eluceo/ical//2.0/EN
VERSION:2.0
CALSCALE:GREGORIAN
BEGIN:VEVENT
UID:9686f40bb4a74b282ccee7655870be71
DTSTAMP:20260422T181713Z
SUMMARY:Berkshire Hills Hadassah Donor Luncheon
DESCRIPTION:Jewish Federation of the Berkshires\nBerkshire Jewish Community
  Calendar\nhttps://jewishberkshires.org/jewish-federation-of-the-berkshire
 s-calendar/berkshire-hills-hadassah-donor-luncheon-1494359536\n\nBerkshire
  Hills Hadassah honors dedicated contributors to the organization.\nCome c
 elebrate with us at Cranwell.
DTSTART;TZID=America/New_York:20171029T113000
DTEND;TZID=America/New_York:20171029T150000
END:VEVENT
END:VCALENDAR
