BEGIN:VCALENDAR
PRODID:-//eluceo/ical//2.0/EN
VERSION:2.0
CALSCALE:GREGORIAN
BEGIN:VEVENT
UID:3ebc7a22c86732880d34c5e8ff43aee5
DTSTAMP:20260419T174200Z
SUMMARY:Berkshire Hills Hadassah Donor Dinner
DESCRIPTION:Jewish Federation of the Berkshires\nBerkshire Jewish Community
  Calendar\nhttps://jewishberkshires.org/jewish-federation-of-the-berkshire
 s-calendar/berkshire-hills-hadassah-donor-dinner-1556656087\n\nMay You Liv
 e to Be 120~ Berkshire Hills Hadassah celebrates 3 of our members for serv
 ing Hadassah for 120 years\n(40 years each).\nOur celebrity guest will be 
 Hilary Price- Rhymes with Orange\, a daily comic strip author\, who will h
 eal us with laughter\, and create one of her comic strips that evening. Wa
 tch her create\, celebrate our long - term volunteers\, and support Hadass
 ah's medical research and service for all.
DTSTART;TZID=America/New_York:20190827T180000
DTEND;TZID=America/New_York:20190827T210000
END:VEVENT
END:VCALENDAR
