BEGIN:VCALENDAR
PRODID:-//eluceo/ical//2.0/EN
VERSION:2.0
CALSCALE:GREGORIAN
BEGIN:VEVENT
UID:351bd1a6b24a35c3f3902a58f7a895d7
DTSTAMP:20260423T143529Z
SUMMARY:Berkshire Hills Hadassah Donor Brunch
DESCRIPTION:Jewish Federation of the Berkshires\nBerkshire Jewish Community
  Calendar\nhttps://jewishberkshires.org/jewish-federation-of-the-berkshire
 s-calendar/berkshire-hills-hadassah-donor-brunch-24802\n\nHadassah Brunch
DTSTART;TZID=America/New_York:20131006T110000
DTEND;TZID=America/New_York:20131006T140000
END:VEVENT
END:VCALENDAR
