BEGIN:VCALENDAR
PRODID:-//eluceo/ical//2.0/EN
VERSION:2.0
CALSCALE:GREGORIAN
BEGIN:VEVENT
UID:d80d3539d2483352a61c13359cdb7b5b
DTSTAMP:20260420T082552Z
SUMMARY:Berkshire Hills Hadassah: Chef of the Month
DESCRIPTION:Jewish Federation of the Berkshires\nBerkshire Jewish Community
  Calendar\nhttps://jewishberkshires.org/jewish-federation-of-the-berkshire
 s-calendar/berkshire-hills-hadassah-chef-of-the-month-1452537780\n\nBerksh
 ire Hills Hadassah’s "Third Tuesday - Chef of the Month" begins again!We
 ’ll have delicious lunches at some of Berkshire County’s best restaura
 nts and observe demonstrations of the their specialty or the preparation o
 f our lunch.Price for meal and ‘demo' will average $2 pp or less\, cash 
 or check made out to the restaurant. Donations to Hadassah with a separate
  check made out to 'Hadassah' is appreciated but not required.Ingredients 
 will always be vegetarian - possibly including d...
DTSTART;TZID=America/New_York:20160216T000000
DTEND;TZID=America/New_York:20160216T000000
END:VEVENT
END:VCALENDAR
