BEGIN:VCALENDAR
PRODID:-//eluceo/ical//2.0/EN
VERSION:2.0
CALSCALE:GREGORIAN
BEGIN:VEVENT
UID:7b627aba7f2c6588665d8f2c1785eed6
DTSTAMP:20260421T212247Z
SUMMARY:Berkshire Hills Hadassah Board Meeting
DESCRIPTION:Jewish Federation of the Berkshires\nBerkshire Jewish Community
  Calendar\nhttps://jewishberkshires.org/jewish-federation-of-the-berkshire
 s-calendar/berkshire-hills-hadassah-board-meeting\n\nHadassah Board Mtg.
DTSTART;TZID=America/New_York:20130508T103000
DTEND;TZID=America/New_York:20130508T110000
END:VEVENT
END:VCALENDAR
