BEGIN:VCALENDAR
PRODID:-//eluceo/ical//2.0/EN
VERSION:2.0
CALSCALE:GREGORIAN
BEGIN:VEVENT
UID:d512c171a7d96b1191ef6e25385015e6
DTSTAMP:20260419T171236Z
SUMMARY:Berkshire Hills Hadassah-Associates\, Golf Outing
DESCRIPTION:Jewish Federation of the Berkshires\nBerkshire Jewish Community
  Calendar\nhttps://jewishberkshires.org/jewish-federation-of-the-berkshire
 s-calendar/berkshire-hills-hadassah-associates-golf-outing-1522170227\n\nG
 olf outing for Hadassah Associates and friends on Tuesday\, May 29 at Bas 
 Ridge Golf Club in Hinsdale. $35 per golfer or $120/foursome\, includes 18
  holes with electric cart.
DTSTART;TZID=America/New_York:20180529T085000
DTEND;TZID=America/New_York:20180529T130000
END:VEVENT
END:VCALENDAR
