BEGIN:VCALENDAR
PRODID:-//eluceo/ical//2.0/EN
VERSION:2.0
CALSCALE:GREGORIAN
BEGIN:VEVENT
UID:590c11174ee3683650674f38c8ab80b7
DTSTAMP:20260420T151617Z
SUMMARY:Berkshire Hills Hadassah Annual Donor Event
DESCRIPTION:Jewish Federation of the Berkshires\nBerkshire Jewish Community
  Calendar\nhttps://jewishberkshires.org/jewish-federation-of-the-berkshire
 s-calendar/berkshire-hills-hadassah-annual-donor-event-1468942956\n\nBerks
 hire Hills Hadassah invites you to celebrate its ongoing commitment to fur
 nish the Sarah Davidson Wetsman Hospital Tower.
DTSTART;TZID=America/New_York:20160911T120000
DTEND;TZID=America/New_York:20160911T150000
END:VEVENT
END:VCALENDAR
