BEGIN:VCALENDAR
PRODID:-//eluceo/ical//2.0/EN
VERSION:2.0
CALSCALE:GREGORIAN
BEGIN:VEVENT
UID:57b9bbee88e860dc01ee6bbfdcef4326
DTSTAMP:20260420T231518Z
SUMMARY:Berkshire Hills Hadassah -Summer  Book Club
DESCRIPTION:Jewish Federation of the Berkshires\nBerkshire Jewish Community
  Calendar\nhttps://jewishberkshires.org/jewish-federation-of-the-berkshire
 s-calendar/berkshire-hills-hadassah--summer--book-club-1463748204\n\nBerks
 hire Hills Hadassah Summer Book Group will read The Jerusalem Maiden by Ta
 lia Carner.\n\nAll Hadassah members and those wishing to become members ar
 e welcome to join the group.\n\nFor more information\, please contact Caro
 l Kaufman at: ckaufman@hadassah.org
DTSTART;TZID=America/New_York:20160729T100000
DTEND;TZID=America/New_York:20160729T120000
END:VEVENT
END:VCALENDAR
