BEGIN:VCALENDAR
PRODID:-//eluceo/ical//2.0/EN
VERSION:2.0
CALSCALE:GREGORIAN
BEGIN:VEVENT
UID:bfc9f9d8bed6e2f9a61b2b612a849e6d
DTSTAMP:20260421T174433Z
SUMMARY:Berkshire Hills Hadassah - Book Club
DESCRIPTION:Jewish Federation of the Berkshires\nBerkshire Jewish Community
  Calendar\nhttps://jewishberkshires.org/jewish-federation-of-the-berkshire
 s-calendar/berkshire-hills-hadassah---book-club-1463748059\n\nBerkshire Hi
 lls Hadassah Summer Book Group will read The Submission by Amy Waldman.\n\
 nAll Hadassah members and those wishing to become members are welcome to j
 oin the group.\n\nFor more information\, please contact Carol Kaufman at: 
 ckaufman@hadassah.org
DTSTART;TZID=America/New_York:20160624T100000
DTEND;TZID=America/New_York:20160624T120000
END:VEVENT
END:VCALENDAR
