BEGIN:VCALENDAR
PRODID:-//eluceo/ical//2.0/EN
VERSION:2.0
CALSCALE:GREGORIAN
BEGIN:VEVENT
UID:ecff1642ee770981cbe18621032587c7
DTSTAMP:20260421T172800Z
SUMMARY:Berkshire Hills Cabaret
DESCRIPTION:Jewish Federation of the Berkshires\nBerkshire Jewish Community
  Calendar\nhttps://jewishberkshires.org/jewish-federation-of-the-berkshire
 s-calendar/berkshire-hills-cabaret-1547815746\n\nJoin us with entertainmen
 t\, refreshments and a cash bar at the very elegant Gateways Inn in Lenox.
 \n$36 per person\,\nRSVP with a check to: Berkshire Hills Hadassah\; P.O.B
 ox 187\, Pittsfield\, MA 01202 by March 12\, 2019.
DTSTART;TZID=America/New_York:20190317T160000
DTEND;TZID=America/New_York:20190317T180000
END:VEVENT
END:VCALENDAR
