BEGIN:VCALENDAR
PRODID:-//eluceo/ical//2.0/EN
VERSION:2.0
CALSCALE:GREGORIAN
BEGIN:VEVENT
UID:3f67cf89abf1638dd960ac3fd526ab5c
DTSTAMP:20260423T145026Z
SUMMARY:Berkshire Hiils Hadassah Pool Party
DESCRIPTION:Jewish Federation of the Berkshires\nBerkshire Jewish Community
  Calendar\nhttps://jewishberkshires.org/jewish-federation-of-the-berkshire
 s-calendar/berkshire-hiils-hadassah-pool-party-1528224936\n\nCome to swim\
 , socialize and relax with other Hadassah folks at the home of Judy Nishma
 n in Lanesborough. For more details contact: berkshirehillshadassah@gmail.
 com
DTSTART;TZID=America/New_York:20180820T160000
DTEND;TZID=America/New_York:20180820T200000
END:VEVENT
END:VCALENDAR
