BEGIN:VCALENDAR
PRODID:-//eluceo/ical//2.0/EN
VERSION:2.0
CALSCALE:GREGORIAN
BEGIN:VEVENT
UID:10c4a67de4d19fdb0c91a87fa57b9a4a
DTSTAMP:20260421T060206Z
SUMMARY:Berkshire B'nai Tzedek Program
DESCRIPTION:Jewish Federation of the Berkshires\nBerkshire Jewish Community
  Calendar\nhttps://jewishberkshires.org/jewish-federation-of-the-berkshire
 s-calendar/berkshire-bnai-tzedek-program\n\nBerkshire B'nai Tzedek Program
DTSTART;TZID=America/New_York:20151004T160000
DTEND;TZID=America/New_York:20151004T183000
END:VEVENT
END:VCALENDAR
