BEGIN:VCALENDAR
PRODID:-//eluceo/ical//2.0/EN
VERSION:2.0
CALSCALE:GREGORIAN
BEGIN:VEVENT
UID:2f51eee180a72c1e306e0d9ec2bb617c
DTSTAMP:20260424T003411Z
SUMMARY:BerkShir Leaders at Hevreh
DESCRIPTION:Jewish Federation of the Berkshires\nBerkshire Jewish Community
  Calendar\nhttps://jewishberkshires.org/jewish-federation-of-the-berkshire
 s-calendar/berkshir-leaders-at-hevreh-1422289966\n\nJoin Student Cantor La
 ura Stein for the first session of BerkShir Leaders\, a songleading group 
 for students 13-18. Guitar is not required but intermediate guitar players
  are welcome. For more information\, please email Laura at lbstein@gmail.c
 om.
DTSTART;TZID=America/New_York:20150221T130000
DTEND;TZID=America/New_York:20150221T143000
END:VEVENT
END:VCALENDAR
