BEGIN:VCALENDAR
PRODID:-//eluceo/ical//2.0/EN
VERSION:2.0
CALSCALE:GREGORIAN
BEGIN:VEVENT
UID:69bb27895d91f7502bebe98387d62802
DTSTAMP:20260421T113220Z
SUMMARY:Berkshire Jewish Learning Institute
DESCRIPTION:Jewish Federation of the Berkshires\nBerkshire Jewish Community
  Calendar\nhttps://jewishberkshires.org/jewish-federation-of-the-berkshire
 s-calendar/berklearn\n\nBerkshire Jewish Learning Institute
DTSTART;TZID=America/New_York:20140829T110000
DTEND;TZID=America/New_York:20140829T123000
END:VEVENT
END:VCALENDAR
