BEGIN:VCALENDAR
PRODID:-//eluceo/ical//2.0/EN
VERSION:2.0
CALSCALE:GREGORIAN
BEGIN:VEVENT
UID:aabc92151af3de67fbb646f24a15c690
DTSTAMP:20260425T205232Z
SUMMARY:Families Beeeeee with us to celebrate the Jewish New Year!
DESCRIPTION:Jewish Federation of the Berkshires\nBerkshire Jewish Community
  Calendar\nhttps://jewishberkshires.org/jewish-federation-of-the-berkshire
 s-calendar/beeeeee-with-us-to-celebrate-the-jewish-new-year\n\nSee how hon
 ey bees make one of our favorite and most important Rosh Hashanah foods!
DTSTART;TZID=America/New_York:20190928T150000
DTEND;TZID=America/New_York:20190928T170000
END:VEVENT
END:VCALENDAR
