BEGIN:VCALENDAR
PRODID:-//eluceo/ical//2.0/EN
VERSION:2.0
CALSCALE:GREGORIAN
BEGIN:VEVENT
UID:7bbd257a5c3498c0e4271afb49a0c76e
DTSTAMP:20260420T132103Z
SUMMARY:Becoming The Nazi Officer’s Wife
DESCRIPTION:Jewish Federation of the Berkshires\nBerkshire Jewish Community
  Calendar\nhttps://jewishberkshires.org/jewish-federation-of-the-berkshire
 s-calendar/becoming-the-nazi-officers-wife-1523369099\n\nThe central task 
 of the collaborating biographer is to become as much as possible the perso
 n whose story is being told. To toss yourself away and inhale the realitie
 s of another person\, another time. That is what happened to Susan Dworkin
  when she was working with Edith Hahn Beer\, the woman whose astonishing e
 scape from the Holocaust is the true story of Dworkin’s New York Times b
 est seller “The Nazi Officer’s Wife.” Said Dworkin: “How did she f
 ind the courage to live as a U-Boat\, h...
DTSTART;TZID=America/New_York:20180712T160000
DTEND;TZID=America/New_York:20180712T173000
END:VEVENT
END:VCALENDAR
