BEGIN:VCALENDAR
PRODID:-//eluceo/ical//2.0/EN
VERSION:2.0
CALSCALE:GREGORIAN
BEGIN:VEVENT
UID:07a7faa20fa36ee61bf22bf5ab0ccad7
DTSTAMP:20260421T110459Z
SUMMARY:Becket Arts Center Pre-Hanukkah Celebration
DESCRIPTION:Jewish Federation of the Berkshires\nBerkshire Jewish Community
  Calendar\nhttps://jewishberkshires.org/jewish-federation-of-the-berkshire
 s-calendar/becket-arts-center-pre-hanukkah-celebration-1733168558\n\nJoin 
 us for the first-ever Hanukkah celebration at BAC. Let’s fill the evenin
 g with light\, laughter\, song\, and community spirit. Join us for an even
 ing of warmth and light\, featuring Hanukkah stories\, songs\, refreshment
 s\, and an opportunity to share your own cherished Hannukah memories.\n\nH
 elp us fill the Arts Center with the warm glow of Hannukah!\n\n$10 for non
 -BAC members
DTSTART;TZID=America/New_York:20241215T170000
DTEND;TZID=America/New_York:20241215T190000
END:VEVENT
END:VCALENDAR
