BEGIN:VCALENDAR
PRODID:-//eluceo/ical//2.0/EN
VERSION:2.0
CALSCALE:GREGORIAN
BEGIN:VEVENT
UID:71a76951282c7347597a37026294115f
DTSTAMP:20260424T080046Z
SUMMARY:Autumn Eco-Tefilah Hike
DESCRIPTION:Jewish Federation of the Berkshires\nBerkshire Jewish Community
  Calendar\nhttps://jewishberkshires.org/jewish-federation-of-the-berkshire
 s-calendar/autumn-eco-tefilah-hike\n\nAutumn Eco-Tefilah
DTSTART;TZID=America/New_York:20131006T093000
DTEND;TZID=America/New_York:20131006T113000
END:VEVENT
END:VCALENDAR
