BEGIN:VCALENDAR
PRODID:-//eluceo/ical//2.0/EN
VERSION:2.0
CALSCALE:GREGORIAN
BEGIN:VEVENT
UID:4c2acc666db5a66ab31a27519f8b83c8
DTSTAMP:20260419T191245Z
SUMMARY:Author Talk: “On the Landing\," with Ellen Cassedy
DESCRIPTION:Jewish Federation of the Berkshires\nBerkshire Jewish Community
  Calendar\nhttps://jewishberkshires.org/jewish-federation-of-the-berkshire
 s-calendar/author-talk-on-the-landing-with-ellen-cassedy-1554824425\n\n&ld
 quo\;On the Landing&rdquo\; opens by inviting us to join a woman making he
 r way through her ruined hometown in southeastern Europe\, recalling the c
 olorful customs of yesteryear&mdash\;and the night everything changed.
DTSTART;TZID=America/New_York:20190707T140000
DTEND;TZID=America/New_York:20190707T153000
END:VEVENT
END:VCALENDAR
