BEGIN:VCALENDAR
PRODID:-//eluceo/ical//2.0/EN
VERSION:2.0
CALSCALE:GREGORIAN
BEGIN:VEVENT
UID:5891345f6965f8ab4d545dd92721fc6c
DTSTAMP:20260422T133847Z
SUMMARY:AUTHOR TALK | “The Book Rescuer” with Sue Macy
DESCRIPTION:Jewish Federation of the Berkshires\nBerkshire Jewish Community
  Calendar\nhttps://jewishberkshires.org/jewish-federation-of-the-berkshire
 s-calendar/author-talk--the-book-rescuer-with-sue-macy-1566927070\n\nAutho
 r Sue Macy will talk about her children&#039\;s book\, The Book Rescuer\, 
 a story about the power of an individual to preserve history and culture\,
  while exploring timely themes of identity and immigration.
DTSTART;TZID=America/New_York:20191006T140000
DTEND;TZID=America/New_York:20191006T160000
END:VEVENT
END:VCALENDAR
