BEGIN:VCALENDAR
PRODID:-//eluceo/ical//2.0/EN
VERSION:2.0
CALSCALE:GREGORIAN
BEGIN:VEVENT
UID:9a6a27aaca9d4eca68120ae16fc25762
DTSTAMP:20260422T031156Z
SUMMARY:AUTHOR TALK | Ilan Stavans and Josh Lambert
DESCRIPTION:Jewish Federation of the Berkshires\nBerkshire Jewish Community
  Calendar\nhttps://jewishberkshires.org/jewish-federation-of-the-berkshire
 s-calendar/author-talk--ilan-stavans-and-josh-lambert-1568813527\n\nA stun
 ning and rich multi-genre anthology of the interplay of Yiddish and Americ
 an culture\, drawing from 40 years of Pakn Treger and edited by award-winn
 ing authors and scholars Ilan Stavans and Josh Lambert. 
DTSTART;TZID=America/New_York:20200301T140000
DTEND;TZID=America/New_York:20200301T153000
END:VEVENT
END:VCALENDAR
