BEGIN:VCALENDAR
PRODID:-//eluceo/ical//2.0/EN
VERSION:2.0
CALSCALE:GREGORIAN
BEGIN:VEVENT
UID:2684c54e1c88c374fd77f608dada3517
DTSTAMP:20260422T222652Z
SUMMARY:Author Presentations-Two Groundbreaking Books-Two Inspirational Spe
 akers
DESCRIPTION:Jewish Federation of the Berkshires\nBerkshire Jewish Community
  Calendar\nhttps://jewishberkshires.org/jewish-federation-of-the-berkshire
 s-calendar/author-presentations-two-groundbreaking-books-two-inspirational
 -speakers-1436974372\n\nTwo groundbreaking books\; two inspirational talks
  in one evening\nAuthor presentations by: Rabbi David Zaslow and Debra Zas
 low\n\nOn Thurs.\, August 13th at 7:00 pm\, Rabbi David Zaslow and Debra Z
 aslow will speak about their recently published books at Congregation Beth
  Israel in North Adams. The event is co-sponsored by All Saints Episcopal 
 Church and Congregation Beth Israel. Both Rabbi David Zaslow and Debra Zas
 low are gifted speakers\, known for their ability to inspire and entertain
 . The t...
DTSTART;TZID=America/New_York:20150813T190000
DTEND;TZID=America/New_York:20150813T210000
END:VEVENT
END:VCALENDAR
