BEGIN:VCALENDAR
PRODID:-//eluceo/ical//2.0/EN
VERSION:2.0
CALSCALE:GREGORIAN
BEGIN:VEVENT
UID:79d7066eca5f0abf9516853eb7ef5146
DTSTAMP:20260421T062031Z
SUMMARY:Author Geraldine Brooks to Speak at Temple Anshe Amunim Brunch
DESCRIPTION:Jewish Federation of the Berkshires\nBerkshire Jewish Community
  Calendar\nhttps://jewishberkshires.org/jewish-federation-of-the-berkshire
 s-calendar/author-geraldine-brooks-to-speak-at-temple-anshe-amunim-brunch-
 1489761221\n\nPulitzer Prize-winning author Geraldine Brooks will be the f
 eatured speaker at Temple Anshe Amunim&rsquo\;s Spring into Summer Brunch 
 on Sunday\, June 4\, 2017 at 10:00 a.m.  Ms. Brooks will read from her acc
 laimed book\, &quot\;The Secret Chord\,&quot\; a novel about the life of t
 he Biblical King David.  
DTSTART;TZID=America/New_York:20170604T000000
DTEND;TZID=America/New_York:20170604T000000
END:VEVENT
END:VCALENDAR
