BEGIN:VCALENDAR
PRODID:-//eluceo/ical//2.0/EN
VERSION:2.0
CALSCALE:GREGORIAN
BEGIN:VEVENT
UID:c896cfe102154c059e66a213fab45be8
DTSTAMP:20260421T094758Z
SUMMARY:Author Event\;  Christopher Gorham\, who wrote The Confidante
DESCRIPTION:Jewish Federation of the Berkshires\nBerkshire Jewish Community
  Calendar\nhttps://jewishberkshires.org/jewish-federation-of-the-berkshire
 s-calendar/author-event--christopher-gorham-who-wrote-the-confidante-17140
 14006\n\nLocation is TBD
DTSTART;TZID=America/New_York:20240913T100000
DTEND;TZID=America/New_York:20240913T120000
END:VEVENT
END:VCALENDAR
