BEGIN:VCALENDAR
PRODID:-//eluceo/ical//2.0/EN
VERSION:2.0
CALSCALE:GREGORIAN
BEGIN:VEVENT
UID:201e9cb97f7a962f128f3d440de660ca
DTSTAMP:20260423T080405Z
SUMMARY:Auditions for A Bintel Brief - A Staged and Rehearsed Reading
DESCRIPTION:Jewish Federation of the Berkshires\nBerkshire Jewish Community
  Calendar\nhttps://jewishberkshires.org/jewish-federation-of-the-berkshire
 s-calendar/auditions-for-a-bintel-brief---a-staged-and-rehearsed-reading-1
 515441448\n\nCast: goal of 6-10 readers\, mixed genders and ages(including
  teens)\n\nAuditions: The director\, Carol Russof\, is looking forreaders 
 who “can shape their vowels and punch their consonants.” Carol is apro
 fessional director with years of experience with productions from coast to
 coast. When you meet her you will knowthat she has the true gift of theatr
 ical vision. Last year she directed a version of this productionto our sou
 th in Hudson. Each production\,of course\, is unique to its cast!\n\n ...
DTSTART;TZID=America/New_York:20180423T183000
DTEND;TZID=America/New_York:20180423T210000
END:VEVENT
END:VCALENDAR
