BEGIN:VCALENDAR
PRODID:-//eluceo/ical//2.0/EN
VERSION:2.0
CALSCALE:GREGORIAN
BEGIN:VEVENT
UID:a79c7ecd4c60af5b24793bcb43f7d632
DTSTAMP:20260420T043857Z
SUMMARY:Antisemitism in Schools and Academia
DESCRIPTION:Jewish Federation of the Berkshires\nBerkshire Jewish Community
  Calendar\nhttps://jewishberkshires.org/jewish-federation-of-the-berkshire
 s-calendar/antisemitism-in-schools-and-academia\n\nJoin us for a conversat
 ion with Rabbi Ron Fish\, ADL Northeast Division Director of Antisemitism 
 Advocacy and Education to discuss the climate in schools and on campuses a
 nd how to respond. \n\nProgram geared for students\, parents\, caregivers
 \, and grandparents concerned about antisemitism in middle school through
  college.  \n\nVegetarian pizza lunch provided.\n\nRegistration required.
   Please click HERE.\n\nRabbi Ron Fish leads ADL’s advocacy and educati
 on initiatives on college and univ...
DTSTART;TZID=America/New_York:20240317T124500
DTEND;TZID=America/New_York:20240317T143000
END:VEVENT
END:VCALENDAR
