BEGIN:VCALENDAR
PRODID:-//eluceo/ical//2.0/EN
VERSION:2.0
CALSCALE:GREGORIAN
BEGIN:VEVENT
UID:573dd85ca399163a036b7408de1b1aa4
DTSTAMP:20260421T071247Z
SUMMARY:Antique Appraisal Day
DESCRIPTION:Jewish Federation of the Berkshires\nBerkshire Jewish Community
  Calendar\nhttps://jewishberkshires.org/jewish-federation-of-the-berkshire
 s-calendar/antique-appraisal-day-1497877512\n\nJune 16\, 2017\n\nFor Immed
 iate Release\n\nContact: Cecelia Swanson\, 413 446-8604\, cehurlbut001@nyc
 ap.rr.com\n\nAntique Appraisal Event to Benefit\nBerkshire Immigrant Cente
 r\n\n“Antique Appraisal Day” will take place June 24th from 1-4pm at S
 outh Congregational Church\, 110 South Street\, Pittsfield. It features an
  afternoon of antiques and rare book appraisals\, a basket auction\, quilt
  raffle\, and bake sale.  Attendance is free and open to the public. Items
  will be appraised at $5.00 each...
DTSTART;TZID=America/New_York:20170624T130000
DTEND;TZID=America/New_York:20170624T160000
END:VEVENT
END:VCALENDAR
