BEGIN:VCALENDAR
PRODID:-//eluceo/ical//2.0/EN
VERSION:2.0
CALSCALE:GREGORIAN
BEGIN:VEVENT
UID:179af3b032a663cfd0e9bded2d4b660a
DTSTAMP:20260420T062632Z
SUMMARY:Anthony Russell- In  Concert
DESCRIPTION:Jewish Federation of the Berkshires\nBerkshire Jewish Community
  Calendar\nhttps://jewishberkshires.org/jewish-federation-of-the-berkshire
 s-calendar/anthony-russell--in--concert-1426715570\n\nA benefit concert fo
 r Rimon Resource Center for Jewish Spirituality featuring Anthony Russell.
DTSTART;TZID=America/New_York:20150808T200000
DTEND;TZID=America/New_York:20150808T220000
END:VEVENT
END:VCALENDAR
