BEGIN:VCALENDAR
PRODID:-//eluceo/ical//2.0/EN
VERSION:2.0
CALSCALE:GREGORIAN
BEGIN:VEVENT
UID:f4f281e8eaaf4d6ab7d9562fd312e7b7
DTSTAMP:20260422T121137Z
SUMMARY:Annual Winter Shabbat Dinner and Community Crib
DESCRIPTION:Jewish Federation of the Berkshires\nBerkshire Jewish Community
  Calendar\nhttps://jewishberkshires.org/jewish-federation-of-the-berkshire
 s-calendar/annual-winter-shabbat-dinner-and-community-crib-1444152741\n\nJ
 oin us for an uplifting\, family-friendly Shabbat service\, followed by a 
 latke dinner and Community Crib Collection.
DTSTART;TZID=America/New_York:20151211T173000
DTEND;TZID=America/New_York:20151211T200000
END:VEVENT
END:VCALENDAR
