BEGIN:VCALENDAR
PRODID:-//eluceo/ical//2.0/EN
VERSION:2.0
CALSCALE:GREGORIAN
BEGIN:VEVENT
UID:c95c6cec733bef8f7ad6415e4342cfa0
DTSTAMP:20260423T160904Z
SUMMARY:CANCELED - Annual Summer Concert With Niki Jacobs
DESCRIPTION:Jewish Federation of the Berkshires\nBerkshire Jewish Community
  Calendar\nhttps://jewishberkshires.org/jewish-federation-of-the-berkshire
 s-calendar/annual-summer-concert-with-niki-jacobs\n\nNIKITOV live in conce
 rt
DTSTART;TZID=America/New_York:20210830T190000
DTEND;TZID=America/New_York:20210830T210000
END:VEVENT
END:VCALENDAR
