BEGIN:VCALENDAR
PRODID:-//eluceo/ical//2.0/EN
VERSION:2.0
CALSCALE:GREGORIAN
BEGIN:VEVENT
UID:83ee2e451ec49a273743357254edf663
DTSTAMP:20260421T153859Z
SUMMARY:Noah Aronson & Band-- Live In Concert
DESCRIPTION:Jewish Federation of the Berkshires\nBerkshire Jewish Community
  Calendar\nhttps://jewishberkshires.org/jewish-federation-of-the-berkshire
 s-calendar/annual-concert-save-the-date\n\nOne night only!  Join us for a
 n evening of music\, ruach and spirit as we celebrating the strength and r
 esilience of our Berkshire Jewish Community and honor Federation Executi
 ve Director Dara Kaufman for her 10 years of dedicated service and leader
 ship.\n\nNoah Aronson has been creating and inspiring audiences with his h
 eartfelt and soulful music for the last twenty years.  Joined by a full p
 owerhouse band for an interactive concert of harmony and rhythm\, his musi
 c is sung in communities...
DTSTART;TZID=America/New_York:20240804T193000
DTEND;TZID=America/New_York:20240804T210000
END:VEVENT
END:VCALENDAR
