BEGIN:VCALENDAR
PRODID:-//eluceo/ical//2.0/EN
VERSION:2.0
CALSCALE:GREGORIAN
BEGIN:VEVENT
UID:587f637eff184dadecfc7276fb63104e
DTSTAMP:20260421T193744Z
SUMMARY:Ancient Roots and Modern Fruits: The Blessings of Tu B'Shevat
DESCRIPTION:Jewish Federation of the Berkshires\nBerkshire Jewish Community
  Calendar\nhttps://jewishberkshires.org/jewish-federation-of-the-berkshire
 s-calendar/ancient-roots-and-modern-fruits-the-blessings-of-tu-bshevat\n\n
 The Jewish Federation Connecting with Community presents "Ancient Roots an
 d Modern Fruits: The Blessings of Tu B'Shevat" with Rabbi Josh Breindel of
  Temple Anshe Amunim in Pittsfield.
DTSTART;TZID=America/New_York:20160121T104500
DTEND;TZID=America/New_York:20160121T120000
END:VEVENT
END:VCALENDAR
