BEGIN:VCALENDAR
PRODID:-//eluceo/ical//2.0/EN
VERSION:2.0
CALSCALE:GREGORIAN
BEGIN:VEVENT
UID:f2dcc848f615a382356b4ba4341788b3
DTSTAMP:20260422T195841Z
SUMMARY:An Opera Festival in the Berkshires
DESCRIPTION:Jewish Federation of the Berkshires\nBerkshire Jewish Community
  Calendar\nhttps://jewishberkshires.org/jewish-federation-of-the-berkshire
 s-calendar/an-opera-festival-in-the-berkshires\n\nThe Jewish Federation Co
 nnecting with Community program presents "An Opera Festival in the Berkshi
 res." 
DTSTART;TZID=America/New_York:20170615T104500
DTEND;TZID=America/New_York:20170615T120000
END:VEVENT
END:VCALENDAR
