BEGIN:VCALENDAR
PRODID:-//eluceo/ical//2.0/EN
VERSION:2.0
CALSCALE:GREGORIAN
BEGIN:VEVENT
UID:12fc150c73dbca2f41c779b9ab615894
DTSTAMP:20260423T024707Z
SUMMARY:An Introduction to Beer in Judaism
DESCRIPTION:Jewish Federation of the Berkshires\nBerkshire Jewish Community
  Calendar\nhttps://jewishberkshires.org/jewish-federation-of-the-berkshire
 s-calendar/an-introduction-to-beer-in-judaism\n\nVirtual Program.  Regist
 er for link HERE.\n\nWine certainly gets the primary focus in Judaism when
  it comes to beverages\, yet what about beer? Beer has been around in huma
 n existence longer than wine\, so where does it fit in in Judaism? Join Ra
 bbi Drew Kaplan for an introductory overview of the most overlooked bevera
 ge in Jewish life. In this Zoom session\, we will explore key texts on bee
 r in the Bible\, Talmud\, and subsequent Jewish practice.\n\nIn addition t
 o his trailblazing Jewish Drinkin...
DTSTART;TZID=America/New_York:20250227T190000
DTEND;TZID=America/New_York:20250227T200000
END:VEVENT
END:VCALENDAR
