BEGIN:VCALENDAR
PRODID:-//eluceo/ical//2.0/EN
VERSION:2.0
CALSCALE:GREGORIAN
BEGIN:VEVENT
UID:8d7abb9f3245378f79560d56ba90d4a6
DTSTAMP:20260423T090629Z
SUMMARY:The What?  Why?  How? of Prayer
DESCRIPTION:Jewish Federation of the Berkshires\nBerkshire Jewish Community
  Calendar\nhttps://jewishberkshires.org/jewish-federation-of-the-berkshire
 s-calendar/an-interactive-exploration-about-prayerwhat-why--how\n\nThe Jew
 ish Federation Connecting with Community presents "The What?  Why?  How? o
 f Prayer"
DTSTART;TZID=America/New_York:20180405T104500
DTEND;TZID=America/New_York:20180405T120000
END:VEVENT
END:VCALENDAR
