BEGIN:VCALENDAR
PRODID:-//eluceo/ical//2.0/EN
VERSION:2.0
CALSCALE:GREGORIAN
BEGIN:VEVENT
UID:8ba07a5c56d09d0d835c30713f8b83d1
DTSTAMP:20260421T211008Z
SUMMARY:An Evening with Rabbi Jonah Pesner
DESCRIPTION:Jewish Federation of the Berkshires\nBerkshire Jewish Community
  Calendar\nhttps://jewishberkshires.org/jewish-federation-of-the-berkshire
 s-calendar/an-evening-with-rabbi-jonah-pesner-1436366793\n\nGreat Ideas in
  Pursuing Justice and Transforming Community: Rabbi Jonah Pesner is the di
 rector of the Religious Action Center. He also currently serves as Senior 
 Vice President of the Union for Reform Judaism.
DTSTART;TZID=America/New_York:20150713T190000
DTEND;TZID=America/New_York:20150713T210000
END:VEVENT
END:VCALENDAR
