BEGIN:VCALENDAR
PRODID:-//eluceo/ical//2.0/EN
VERSION:2.0
CALSCALE:GREGORIAN
BEGIN:VEVENT
UID:da86c297002de18690ff81c70e7adf19
DTSTAMP:20260422T224134Z
SUMMARY:All the World's a Stage: the Surprising History of Jews and the The
 atre
DESCRIPTION:Jewish Federation of the Berkshires\nBerkshire Jewish Community
  Calendar\nhttps://jewishberkshires.org/jewish-federation-of-the-berkshire
 s-calendar/all-the-worlds-a-stage-the-surprising-history-of-jews-and-the-t
 heatre\n\nThe Surprising History of Jews and the Theatre
DTSTART;TZID=America/New_York:20130604T120000
DTEND;TZID=America/New_York:20130604T133000
END:VEVENT
END:VCALENDAR
