BEGIN:VCALENDAR
PRODID:-//eluceo/ical//2.0/EN
VERSION:2.0
CALSCALE:GREGORIAN
BEGIN:VEVENT
UID:26bcf895ca48b06e52442adf622eb7ef
DTSTAMP:20260422T045046Z
SUMMARY:Aging in Amazement
DESCRIPTION:Jewish Federation of the Berkshires\nBerkshire Jewish Community
  Calendar\nhttps://jewishberkshires.org/jewish-federation-of-the-berkshire
 s-calendar/aging-in-amazement\n\nJewish Federation Connecting with Communi
 ty welcomes author Susie Kaufman
DTSTART;TZID=America/New_York:20200224T104500
DTEND;TZID=America/New_York:20200224T120000
END:VEVENT
END:VCALENDAR
