BEGIN:VCALENDAR
PRODID:-//eluceo/ical//2.0/EN
VERSION:2.0
CALSCALE:GREGORIAN
BEGIN:VEVENT
UID:23c4e27061c824c2abb8a8bb522498fd
DTSTAMP:20260422T004435Z
SUMMARY:Aging a Lifelong Process
DESCRIPTION:Jewish Federation of the Berkshires\nBerkshire Jewish Community
  Calendar\nhttps://jewishberkshires.org/jewish-federation-of-the-berkshire
 s-calendar/aging-a-lifelong-process\n\nParticipants will discuss\, share\,
  and offer support to one another.  It is a program for people of all ages
  to allow for intergenerational dialogue.
DTSTART;TZID=America/New_York:20210726T104500
DTEND;TZID=America/New_York:20210726T120000
END:VEVENT
END:VCALENDAR
