BEGIN:VCALENDAR
PRODID:-//eluceo/ical//2.0/EN
VERSION:2.0
CALSCALE:GREGORIAN
BEGIN:VEVENT
UID:189a23ba9ee6cd86077367f9f29d3c2b
DTSTAMP:20260421T103550Z
SUMMARY:Adult B'nai Mitzvah
DESCRIPTION:Jewish Federation of the Berkshires\nBerkshire Jewish Community
  Calendar\nhttps://jewishberkshires.org/jewish-federation-of-the-berkshire
 s-calendar/adult-bnai-mitzvah-43938\n\n2014 Adult B'nai Mitzvah - at Hevre
 h
DTSTART;TZID=America/New_York:20140614T100000
DTEND;TZID=America/New_York:20140614T103000
END:VEVENT
END:VCALENDAR
