BEGIN:VCALENDAR
PRODID:-//eluceo/ical//2.0/EN
VERSION:2.0
CALSCALE:GREGORIAN
BEGIN:VEVENT
UID:9788381e14559c2d59511297ad177160
DTSTAMP:20260423T001312Z
SUMMARY:A Woman of Valor: The Saga of Judith
DESCRIPTION:Jewish Federation of the Berkshires\nBerkshire Jewish Community
  Calendar\nhttps://jewishberkshires.org/jewish-federation-of-the-berkshire
 s-calendar/a-woman-of-valor-the-saga-of-judith\n\nA Woman of Valor: The Sa
 ga of Judith
DTSTART;TZID=America/New_York:20130808T120000
DTEND;TZID=America/New_York:20130808T130000
END:VEVENT
END:VCALENDAR
