BEGIN:VCALENDAR
PRODID:-//eluceo/ical//2.0/EN
VERSION:2.0
CALSCALE:GREGORIAN
BEGIN:VEVENT
UID:34331511d4286e6e0204cd332a7bcf44
DTSTAMP:20260425T014531Z
SUMMARY:A Very Israeli Rosh Hashanah with Michael Solomonov and Adeena Suss
 man
DESCRIPTION:Jewish Federation of the Berkshires\nBerkshire Jewish Community
  Calendar\nhttps://jewishberkshires.org/jewish-federation-of-the-berkshire
 s-calendar/a-very-israeli-rosh-hashanah\n\nExclusive live Rosh Hashanah Vi
 rtual Cooking Class with 5-time James Beard award-winning chef Michael Sol
 omonov and best-selling cookbook author Adeena Sussman.\n\nRegister Here 
 - Event link\, password\, and recipes will be sent prior to the event. \n
 \n 
DTSTART;TZID=America/New_York:20210901T200000
DTEND;TZID=America/New_York:20210901T210000
END:VEVENT
END:VCALENDAR
