BEGIN:VCALENDAR
PRODID:-//eluceo/ical//2.0/EN
VERSION:2.0
CALSCALE:GREGORIAN
BEGIN:VEVENT
UID:fcfc01ac9aafb4b309f2d0ac1e86bc57
DTSTAMP:20260420T213035Z
SUMMARY:A Tribute to Rabbi Josh Breindel
DESCRIPTION:Jewish Federation of the Berkshires\nBerkshire Jewish Community
  Calendar\nhttps://jewishberkshires.org/jewish-federation-of-the-berkshire
 s-calendar/a-tribute-to-rabbi-josh-breindel-1428416469\n\nJoin Temple Ansh
 e Amunim members to pay tribute to Rabbi Josh Breindel at a dinner "roast"
  with "celebrity" guests.
DTSTART;TZID=America/New_York:20150830T180000
DTEND;TZID=America/New_York:20150830T220000
END:VEVENT
END:VCALENDAR
