BEGIN:VCALENDAR
PRODID:-//eluceo/ical//2.0/EN
VERSION:2.0
CALSCALE:GREGORIAN
BEGIN:VEVENT
UID:fb1dcbebf18669b59dd01651e096727f
DTSTAMP:20260423T202736Z
SUMMARY:A Sweet Chocolate Gathering
DESCRIPTION:Jewish Federation of the Berkshires\nBerkshire Jewish Community
  Calendar\nhttps://jewishberkshires.org/jewish-federation-of-the-berkshire
 s-calendar/a-sweet-chocolate-gathering-1680886367\n\nA brownie tasting and
  judging by local judges
DTSTART;TZID=America/New_York:20230530T183000
DTEND;TZID=America/New_York:20230530T203000
END:VEVENT
END:VCALENDAR
